BEGIN:VCALENDAR
VERSION:2.0
PRODID:-//Wikimedia - ECPv6.15.17.1//NONSGML v1.0//EN
CALSCALE:GREGORIAN
METHOD:PUBLISH
X-WR-CALNAME:Wikimedia
X-ORIGINAL-URL:https://www.wikimedia.de
X-WR-CALDESC:Veranstaltungen für Wikimedia
REFRESH-INTERVAL;VALUE=DURATION:PT1H
X-Robots-Tag:noindex
X-PUBLISHED-TTL:PT1H
BEGIN:VTIMEZONE
TZID:Europe/Berlin
BEGIN:DAYLIGHT
TZOFFSETFROM:+0100
TZOFFSETTO:+0200
TZNAME:CEST
DTSTART:20230326T010000
END:DAYLIGHT
BEGIN:STANDARD
TZOFFSETFROM:+0200
TZOFFSETTO:+0100
TZNAME:CET
DTSTART:20231029T010000
END:STANDARD
BEGIN:DAYLIGHT
TZOFFSETFROM:+0100
TZOFFSETTO:+0200
TZNAME:CEST
DTSTART:20240331T010000
END:DAYLIGHT
BEGIN:STANDARD
TZOFFSETFROM:+0200
TZOFFSETTO:+0100
TZNAME:CET
DTSTART:20241027T010000
END:STANDARD
BEGIN:DAYLIGHT
TZOFFSETFROM:+0100
TZOFFSETTO:+0200
TZNAME:CEST
DTSTART:20250330T010000
END:DAYLIGHT
BEGIN:STANDARD
TZOFFSETFROM:+0200
TZOFFSETTO:+0100
TZNAME:CET
DTSTART:20251026T010000
END:STANDARD
END:VTIMEZONE
BEGIN:VEVENT
DTSTART;TZID=Europe/Berlin:20240621T170000
DTEND;TZID=Europe/Berlin:20240621T223000
DTSTAMP:20260420T195204
CREATED:20240328T082114Z
LAST-MODIFIED:20240605T130800Z
UID:64114-1718989200-1719009000@www.wikimedia.de
SUMMARY:20-Jahre-Fest von Wikimedia Deutschland
DESCRIPTION:Wikimedia Deutschland wird 20 Jahre – und das wird gefeiert! Wir öffnen am Freitag\, den 21. Juni 2024 die Türen zu unserer Geschäftsstelle am Tempelhofer Ufer in Berlin. Wir freuen uns über alle Interessierten\, Weggefährten und Partner*innen\, die uns die letzten zwei Jahrzehnte begleitet und unser Engagement für Freies Wissen und ein besseres Internet unterstützt haben. \nAb 17 Uhr geben wir Einblicke in aktuelle Projekte\, Initiativen und Kampagnen. Das Programm umfasst eine Vielzahl von Präsentationen\, interaktiven Workshops und Mitmach-Aktionen rund um das Thema Freies Wissen. Weitere Informationen zum Programm werden in Kürze veröffentlicht. \nAb 20 Uhr stoßen wir gemeinsam mit Vereinsmitgliedern\, Freiwilligen aus den Communitys\, Projektpartner*innen und Gästen aus Politik und Zivilgesellschaft auf die vergangenen 20 Jahre an und richten den Blick stimmungsvoll in die Zukunft. \nWir freuen uns sehr darauf\, diesen besonderen Anlass gemeinsam zu feiern! \n\n\n\n\n\n\n	\n\n\n\n\n\n\n\n\n\n    \n        \n        \n            Anmeldung        \n    \n    \n\n\n\n\n\n    Aufgrund des großen Interesses mussten wir die Anmeldung schließen. Es gibt aber die Möglichkeit\, sich auf die Warteliste setzen zu lassen. Dafür einfach das folgende Formular ausfüllen. Wir melden uns\, wenn ein Platz frei wird.
URL:https://www.wikimedia.de/veranstaltungen/20-jahre-fest-von-wikimedia-deutschland/
LOCATION:Wikimedia Deutschland e. V.\, Tempelhofer Ufer 23-24\, Berlin\, 10963
ATTACH;FMTTYPE=image/jpeg:https://www.wikimedia.de/wp-content/uploads/2024/01/Wikimedia-WebsiteBlog.jpg
END:VEVENT
END:VCALENDAR