BEGIN:VCALENDAR
VERSION:2.0
PRODID:-//Wikimedia - ECPv6.15.17.1//NONSGML v1.0//EN
CALSCALE:GREGORIAN
METHOD:PUBLISH
X-WR-CALNAME:Wikimedia
X-ORIGINAL-URL:https://www.wikimedia.de
X-WR-CALDESC:Veranstaltungen für Wikimedia
REFRESH-INTERVAL;VALUE=DURATION:PT1H
X-Robots-Tag:noindex
X-PUBLISHED-TTL:PT1H
BEGIN:VTIMEZONE
TZID:Europe/Berlin
BEGIN:DAYLIGHT
TZOFFSETFROM:+0100
TZOFFSETTO:+0200
TZNAME:CEST
DTSTART:20250330T010000
END:DAYLIGHT
BEGIN:STANDARD
TZOFFSETFROM:+0200
TZOFFSETTO:+0100
TZNAME:CET
DTSTART:20251026T010000
END:STANDARD
BEGIN:DAYLIGHT
TZOFFSETFROM:+0100
TZOFFSETTO:+0200
TZNAME:CEST
DTSTART:20260329T010000
END:DAYLIGHT
BEGIN:STANDARD
TZOFFSETFROM:+0200
TZOFFSETTO:+0100
TZNAME:CET
DTSTART:20261025T010000
END:STANDARD
BEGIN:DAYLIGHT
TZOFFSETFROM:+0100
TZOFFSETTO:+0200
TZNAME:CEST
DTSTART:20270328T010000
END:DAYLIGHT
BEGIN:STANDARD
TZOFFSETFROM:+0200
TZOFFSETTO:+0100
TZNAME:CET
DTSTART:20271031T010000
END:STANDARD
END:VTIMEZONE
BEGIN:VEVENT
DTSTART;TZID=Europe/Berlin:20260213T183000
DTEND;TZID=Europe/Berlin:20260215T150000
DTSTAMP:20260420T195203
CREATED:20251201T123126Z
LAST-MODIFIED:20260210T125225Z
UID:70536-1771007400-1771167600@www.wikimedia.de
SUMMARY:7. FilmFrauen Berlinale-Edit-a-thon 2026
DESCRIPTION:Der FilmFrauen Berlinale-Edit-a-thon\, der 2026 schon zum 7. Mal am ersten Berlinale-Wochenende stattfindet\, will die Sichtbarkeit von Frauen aus der Filmbranche auf Wikipedia erhöhen. Dazu tragen etwa 30 Teilnehmende aller Geschlechter und Wikipedia-Kenntnisstufen vor Ort und aus der Ferne bei: Sie verfassen und erweitern Biografien zu Film-Künstler*innen\, Schauspieler*innen\, Kollektiven\, Filmemacher*innen und deren Filmen\, sie bereichern Wikmedia Commons durch Fotos und legen Wikidata-Einträge an. Besondere Aufmerksamkeit liegt dabei immer auch auf Filmfrauen\, die durch ihre Arbeit abseits des Scheinwerferlichts Filme erst möglich machen\, z. B. hinter der Kamera oder am Schneidetisch. Nicht zu vergessen: Beim Edit-a-thon erweitern\, vertiefen und üben Fortgeschrittene ihre editorischen Fähigkeiten\, tauschen sich aus und helfen Neulingen bei den ersten Schritten. \n\n\n\n\n\n\n	\n\n\n\n\n\n\n\n\n\n    \n        \n        \n            Ablauf        \n    \n    \n\n\n\n\n\n    \nFreitag\, 18:30–21:00 Uhr (Das Kennenlernen am Freitagabend findet in einem Restaurant statt. Infos dazu werden bei der Anmeldung verschickt.)\n\nSamstag\, 11:00–17:00 Uhr\n\nSonntag\, 11:00–15:00 Uhr\n\n\n\n\n\n\n\n	\n\n\n\n\n\n\n\n\n\n    \n        \n        \n            Anmeldung
URL:https://www.wikimedia.de/veranstaltungen/7-filmfrauen-berlinale-edit-a-thon-2026/
LOCATION:Wikimedia Deutschland e. V.\, Tempelhofer Ufer 23-24\, Berlin\, 10963
ATTACH;FMTTYPE=image/png:https://www.wikimedia.de/wp-content/uploads/2025/12/26-2.png
END:VEVENT
END:VCALENDAR