BEGIN:VCALENDAR
VERSION:2.0
PRODID:-//Wikimedia - ECPv6.15.17.1//NONSGML v1.0//EN
CALSCALE:GREGORIAN
METHOD:PUBLISH
X-WR-CALNAME:Wikimedia
X-ORIGINAL-URL:https://www.wikimedia.de
X-WR-CALDESC:Veranstaltungen für Wikimedia
REFRESH-INTERVAL;VALUE=DURATION:PT1H
X-Robots-Tag:noindex
X-PUBLISHED-TTL:PT1H
BEGIN:VTIMEZONE
TZID:Europe/Berlin
BEGIN:DAYLIGHT
TZOFFSETFROM:+0100
TZOFFSETTO:+0200
TZNAME:CEST
DTSTART:20230326T010000
END:DAYLIGHT
BEGIN:STANDARD
TZOFFSETFROM:+0200
TZOFFSETTO:+0100
TZNAME:CET
DTSTART:20231029T010000
END:STANDARD
BEGIN:DAYLIGHT
TZOFFSETFROM:+0100
TZOFFSETTO:+0200
TZNAME:CEST
DTSTART:20240331T010000
END:DAYLIGHT
BEGIN:STANDARD
TZOFFSETFROM:+0200
TZOFFSETTO:+0100
TZNAME:CET
DTSTART:20241027T010000
END:STANDARD
BEGIN:DAYLIGHT
TZOFFSETFROM:+0100
TZOFFSETTO:+0200
TZNAME:CEST
DTSTART:20250330T010000
END:DAYLIGHT
BEGIN:STANDARD
TZOFFSETFROM:+0200
TZOFFSETTO:+0100
TZNAME:CET
DTSTART:20251026T010000
END:STANDARD
END:VTIMEZONE
BEGIN:VEVENT
DTSTART;TZID=Europe/Berlin:20240419T150000
DTEND;TZID=Europe/Berlin:20240421T140000
DTSTAMP:20260420T195204
CREATED:20240216T141406Z
LAST-MODIFIED:20240220T100311Z
UID:63471-1713538800-1713708000@www.wikimedia.de
SUMMARY:Anmeldung zur FemNetzCon 2024
DESCRIPTION:Willkommen zur Anmeldung zur FemNetzCon 2024 vom 19.-21.04.2024 in Hamburg!        \n    \n    \n\n\n\n\n\n	\n\n\n\n\n\n\n\n    Wir freuen uns\, dass du dabei sein möchtest! Weitere Hinweise und Informationen findest du auf der Wikipedia-Seite der FemNetzCon 2024.  \nBei Fragen oder Problemen wende dich bitte an reisekosten@wikimedia.de \n\n\n\n\n\n\n	\n\n\n\n\n\n\n\n\n\n    \n        \n        \n            Zum Datenschutz        \n    \n    \n\n\n\n\n\n    In diesem Anmeldeformular fragen wir ausschließlich Daten ab\, die für die Vorbereitung und Durchführung der FemNetzCon 2024 erforderlich sind. Die Daten\, die du hier angegeben hast\, sind nur den zuständigen Mitarbeitenden bei Wikimedia Deutschland zugänglich. Einzelne Daten (wie User-Name\, An- und Abreisedaten\, Unverträglichkeiten) werden an Ehrenamtliche des Orga-Teams weitergegeben\, die eine entsprechende Vertraulichkeitsvereinbarung unterzeichnet haben. Die Daten werden vier Wochen nach Durchführung der Veranstaltung gelöscht. \nDie Verarbeitung erfolgt auf der Grundlage von Art. 6 Abs. 1 lit. b DSGVO. Weitere Informationen zur Datenverarbeitung findest du  unter https://www.wikimedia.de/datenschutz/.  \n\n\n\n\n\n\n	\n\n\n\n\n\n\n\n\n\n    \n        \n        \n            Anmeldung
URL:https://www.wikimedia.de/veranstaltungen/anmeldung-zur-femnetzcon-2024/
ATTACH;FMTTYPE=image/jpeg:https://www.wikimedia.de/wp-content/uploads/2024/02/FemNetzCon-HH-2024.jpg
END:VEVENT
END:VCALENDAR