BEGIN:VCALENDAR
VERSION:2.0
PRODID:-//Wikimedia - ECPv6.15.17.1//NONSGML v1.0//EN
CALSCALE:GREGORIAN
METHOD:PUBLISH
X-WR-CALNAME:Wikimedia
X-ORIGINAL-URL:https://www.wikimedia.de
X-WR-CALDESC:Veranstaltungen für Wikimedia
REFRESH-INTERVAL;VALUE=DURATION:PT1H
X-Robots-Tag:noindex
X-PUBLISHED-TTL:PT1H
BEGIN:VTIMEZONE
TZID:Europe/Berlin
BEGIN:DAYLIGHT
TZOFFSETFROM:+0100
TZOFFSETTO:+0200
TZNAME:CEST
DTSTART:20230326T010000
END:DAYLIGHT
BEGIN:STANDARD
TZOFFSETFROM:+0200
TZOFFSETTO:+0100
TZNAME:CET
DTSTART:20231029T010000
END:STANDARD
BEGIN:DAYLIGHT
TZOFFSETFROM:+0100
TZOFFSETTO:+0200
TZNAME:CEST
DTSTART:20240331T010000
END:DAYLIGHT
BEGIN:STANDARD
TZOFFSETFROM:+0200
TZOFFSETTO:+0100
TZNAME:CET
DTSTART:20241027T010000
END:STANDARD
BEGIN:DAYLIGHT
TZOFFSETFROM:+0100
TZOFFSETTO:+0200
TZNAME:CEST
DTSTART:20250330T010000
END:DAYLIGHT
BEGIN:STANDARD
TZOFFSETFROM:+0200
TZOFFSETTO:+0100
TZNAME:CET
DTSTART:20251026T010000
END:STANDARD
END:VTIMEZONE
BEGIN:VEVENT
DTSTART;TZID=Europe/Berlin:20240220T180000
DTEND;TZID=Europe/Berlin:20240220T210000
DTSTAMP:20260420T195203
CREATED:20240117T165257Z
LAST-MODIFIED:20240229T133029Z
UID:63162-1708452000-1708462800@www.wikimedia.de
SUMMARY:Buchvorstellung & Paneldiskussion: Medienzukunft 2025
DESCRIPTION:Der öffentlich-rechtliche Rundfunk ist aktuell mit verschiedenen Herausforderungen konfrontiert. Wie gehen die Sendeanstalten mit der digitalen Transformation um? Was bedeutet Public Value und wie werden die Öffentlich-Rechtlichen ihrem Auftrag künftig gerecht? Welche Rolle können innovative Lizenzmodelle für die Verbreitung von hochwertigen Informations- und Wissensinhalten spielen? Und welchen Beitrag können eine erhöhte Beteiligung auf allen Ebenen sowie die Reform bestehender Strukturen zur Förderung inhaltlicher Vielfalt leisten? \nIn „Medienzukunft 2025: Wie kann Vielfalt gelingen?” analysieren Medienschaffende\, welche Chancen und Notwendigkeiten sich ansgesichts dieser Fragen aus ihrer Perspektive auftun. Darüber wollen wir gemeinsam diskutieren mit: \n\nTabea Rößner\, MdB (Bündnis 90/Die Grünen)\nDr. Thorolf Lipp (Vorstand Deutsche Akademie für Fernsehen)\nCay Wesnigk (Drehbuchautor und Filmproduzent)\nLaura-Kristine Krause (Mitglied des ZDF-Fernsehrats für den Bereich Internet)\nModeration: Vera Linß (Medienjournalistin)\n\n\n\n\n\n\n\n\n\n    \n        \n        \n            Aufzeichnung der Veranstaltung        \n    \n    \n\n\n\n\n\n\n        \n    \n			\n				\n					\n				\n				Mit dem Abspielen des Videos erklären Sie sich damit einverstanden\, dass YouTube und Google Ihre Daten speichern und verarbeiten dürfen. Bitte beachten Sie die Datenschutzerklärung von Google.\n				\n					Ablehnen\n					Akzeptieren & Abspielen\n				\n			\n		\n\n    \n\n\n\n\n\n\n\n    \n        \n        \n            Ablauf        \n    \n    \n\n\n\n\n\n	\n\n\n\n\n\n\n\n    18:00 Einlass \n18:30 Kurzvorstellung „Medienzukunft 2025” \n18:45 Moderierte Paneldiskussion \n19:30 Q&A \n19:45 Get-Together mit Snacks und Getränken \n21:00 Ende der Veranstaltung \n\n\n\n\n\n\n\n\n    \n        \n        \n            Anmeldung
URL:https://www.wikimedia.de/veranstaltungen/buchvorstellung-paneldiskussion-medienzukunft-2025/
LOCATION:Wikimedia Deutschland e. V.\, Tempelhofer Ufer 23-24\, Berlin\, 10963
CATEGORIES:Discussion
ATTACH;FMTTYPE=image/png:https://www.wikimedia.de/wp-content/uploads/2024/02/Medienzukunft-Banner-41.png
END:VEVENT
END:VCALENDAR