BEGIN:VCALENDAR
VERSION:2.0
PRODID:-//Wikimedia - ECPv6.15.17.1//NONSGML v1.0//EN
CALSCALE:GREGORIAN
METHOD:PUBLISH
X-WR-CALNAME:Wikimedia
X-ORIGINAL-URL:https://www.wikimedia.de
X-WR-CALDESC:Veranstaltungen für Wikimedia
REFRESH-INTERVAL;VALUE=DURATION:PT1H
X-Robots-Tag:noindex
X-PUBLISHED-TTL:PT1H
BEGIN:VTIMEZONE
TZID:Europe/Berlin
BEGIN:DAYLIGHT
TZOFFSETFROM:+0100
TZOFFSETTO:+0200
TZNAME:CEST
DTSTART:20250330T010000
END:DAYLIGHT
BEGIN:STANDARD
TZOFFSETFROM:+0200
TZOFFSETTO:+0100
TZNAME:CET
DTSTART:20251026T010000
END:STANDARD
BEGIN:DAYLIGHT
TZOFFSETFROM:+0100
TZOFFSETTO:+0200
TZNAME:CEST
DTSTART:20260329T010000
END:DAYLIGHT
BEGIN:STANDARD
TZOFFSETFROM:+0200
TZOFFSETTO:+0100
TZNAME:CET
DTSTART:20261025T010000
END:STANDARD
BEGIN:DAYLIGHT
TZOFFSETFROM:+0100
TZOFFSETTO:+0200
TZNAME:CEST
DTSTART:20270328T010000
END:DAYLIGHT
BEGIN:STANDARD
TZOFFSETFROM:+0200
TZOFFSETTO:+0100
TZNAME:CET
DTSTART:20271031T010000
END:STANDARD
END:VTIMEZONE
BEGIN:VEVENT
DTSTART;TZID=Europe/Berlin:20260430T180000
DTEND;TZID=Europe/Berlin:20260430T220000
DTSTAMP:20260420T203203
CREATED:20260410T113125Z
LAST-MODIFIED:20260415T143315Z
UID:71427-1777572000-1777586400@www.wikimedia.de
SUMMARY:Film & Diskussion: The Delivery Guy
DESCRIPTION:„The Delivery Guy“ erzählt die Geschichten zweier südasiatischer Einwanderer\, die als Studenten nach Berlin kamen und heute in der Essenslieferbranche arbeiten. Der Film beleuchtet ihre Hoffnungen\, Enttäuschungen und ihren täglichen Kampf um Würde in einem System\, das ihre Anwesenheit kaum wahrnimmt. \nIn der anschließenden Diskussion mit Regisseur Debarun Dutta und Aju Ghevarghese John\, Produzent des Podcasts „Delivery Charge“\, werden die Prozesse der Dokumentation und Veröffentlichung näher beleuchtet: Wie kann marginalisiertes Wissen mehr Sichtbarkeit erlangen\, und welche Rolle spielen dabei Lizenzfragen? \nAlle Interessierten sind herzlich eingeladen\, sich für die Veranstaltung anzumelden. Der Film wird auf Englisch gezeigt und durch die Förderung im Programm re·shape entstanden. \n\n\n\n\n\n\n	\n\n\n\n\n\n\n\n	\n\n\n\n\n\n\n\n	\n\n\n\n\n\n\n\n\n\n    \n        \n        \n            English description        \n    \n    \n\n\n\n\n\n	\n\n\n\n\n\n\n\n    “The Delivery Guy” follows the stories of two South Asian immigrants who came to Berlin as students and now work in the food delivery sector. The film sheds light on their hopes\, disappointments\, and daily struggle for dignity within a system that barely acknowledges their presence.  \nIn the following discussion with director Debarun Dutta and Aju Ghevarghese John\, producer of the podcast “Delivery Charge\, the processes of documenting and publishing will be explored in greater detail: How can marginalised knowledge gain greater visibility\, and what role do licensing issues play in this? \nEveryone interested\, is welcome to sign up for the event. The film is shown in English and was produced with funding from the re·shape programme. \n\n\n\n\n\n\n	\n\n\n\n\n\n\n\n\n\n    \n        \n        \n            Anmeldung / Registration
URL:https://www.wikimedia.de/veranstaltungen/film-diskussion-the-delivery-guy/
LOCATION:Wikimedia Deutschland e. V.\, Tempelhofer Ufer 23-24\, Berlin\, 10963
ATTACH;FMTTYPE=image/jpeg:https://www.wikimedia.de/wp-content/uploads/2026/04/Sequence-V2-26-sept-subs.00_03_20_07.Still005.jpg
END:VEVENT
END:VCALENDAR