BEGIN:VCALENDAR
VERSION:2.0
PRODID:-//Wikimedia - ECPv6.15.17.1//NONSGML v1.0//EN
CALSCALE:GREGORIAN
METHOD:PUBLISH
X-WR-CALNAME:Wikimedia
X-ORIGINAL-URL:https://www.wikimedia.de
X-WR-CALDESC:Veranstaltungen für Wikimedia
REFRESH-INTERVAL;VALUE=DURATION:PT1H
X-Robots-Tag:noindex
X-PUBLISHED-TTL:PT1H
BEGIN:VTIMEZONE
TZID:Europe/Berlin
BEGIN:DAYLIGHT
TZOFFSETFROM:+0100
TZOFFSETTO:+0200
TZNAME:CEST
DTSTART:20240331T010000
END:DAYLIGHT
BEGIN:STANDARD
TZOFFSETFROM:+0200
TZOFFSETTO:+0100
TZNAME:CET
DTSTART:20241027T010000
END:STANDARD
BEGIN:DAYLIGHT
TZOFFSETFROM:+0100
TZOFFSETTO:+0200
TZNAME:CEST
DTSTART:20250330T010000
END:DAYLIGHT
BEGIN:STANDARD
TZOFFSETFROM:+0200
TZOFFSETTO:+0100
TZNAME:CET
DTSTART:20251026T010000
END:STANDARD
BEGIN:DAYLIGHT
TZOFFSETFROM:+0100
TZOFFSETTO:+0200
TZNAME:CEST
DTSTART:20260329T010000
END:DAYLIGHT
BEGIN:STANDARD
TZOFFSETFROM:+0200
TZOFFSETTO:+0100
TZNAME:CET
DTSTART:20261025T010000
END:STANDARD
END:VTIMEZONE
BEGIN:VEVENT
DTSTART;TZID=Europe/Berlin:20251011T100000
DTEND;TZID=Europe/Berlin:20251012T180000
DTSTAMP:20260420T172008
CREATED:20250924T135551Z
LAST-MODIFIED:20251008T081613Z
UID:70011-1760176800-1760292000@www.wikimedia.de
SUMMARY:OSM Hack Weekend Berlin Herbst 2025 
DESCRIPTION:Seit über 20 Jahren arbeitet die OpenStreetMap-Community daran\, eine freie Weltkarte zu erschaffen. Am ersten Novemberwochenende treffen sich in Berlin wieder ehrenamtlich Aktive und Programmierer*innen\, um gemeinsam weitere freie Karten zu erstellen. \nIn den Räumen von Wikimedia Deutschland am Tempelhofer Ufer können interessierte OpenStreetMap-Nutzer*innen\, Programmierende sowie fortgeschrittene Anwender*innen im Team ihre eigenen Ideen umsetzen. In Gemeinschaft diskutiert es sich einfacher\, Fragen werden direkt beantwortet und es ist auch schnell Code getippt. Auch neue Interessierte sind herzlich eingeladen\, die Arbeit an OpenStreetMap und die Community dahinter kennenzulernen! Voraussetzungen gibt es keine\, um zum Treffen zu kommen\, jedoch bringt in der Regel jede*r einen eigenen Computer mit. \n\n\n\n\n\n\n  \n        Weitere Informationen  \n\n\n\n\n\n\n	\n\n\n\n\n\n\n\n\n\n    \n        \n        \n            Ablauf und Anmeldung        \n    \n    \n\n\n\n\n\n	\n\n\n\n\n\n\n\n    An beiden Tagen treffen sich die Teilnehmenden von 10 bis 18 Uhr in den Räumen von Wikimedia Deutschland. \nDie Anmeldung findest auf osmcal.org. Für die Anmeldung benötigst du einen OSM-Account. Klicke nach dem Login auf “attend”\, um dich final anzumelden. Du kannst auch sehr gerne ohne Anmeldung vorbeikommen. Bitte beachte\, dass wir am Eingang deinen Namen oder deinen OSM-Account abfragen und in eine Liste eintragen.
URL:https://www.wikimedia.de/veranstaltungen/https-www-wikimedia-de-veranstaltungen-osm-hack-weekend-berlin-2025/
LOCATION:Wikimedia Deutschland e. V.\, Tempelhofer Ufer 23-24\, Berlin\, 10963
ATTACH;FMTTYPE=image/png:https://www.wikimedia.de/wp-content/uploads/2024/10/Logo-OSM.png
END:VEVENT
END:VCALENDAR