BEGIN:VCALENDAR
VERSION:2.0
PRODID:-//Wikimedia - ECPv6.15.17.1//NONSGML v1.0//EN
CALSCALE:GREGORIAN
METHOD:PUBLISH
X-WR-CALNAME:Wikimedia
X-ORIGINAL-URL:https://www.wikimedia.de
X-WR-CALDESC:Veranstaltungen für Wikimedia
REFRESH-INTERVAL;VALUE=DURATION:PT1H
X-Robots-Tag:noindex
X-PUBLISHED-TTL:PT1H
BEGIN:VTIMEZONE
TZID:Europe/Berlin
BEGIN:DAYLIGHT
TZOFFSETFROM:+0100
TZOFFSETTO:+0200
TZNAME:CEST
DTSTART:20230326T010000
END:DAYLIGHT
BEGIN:STANDARD
TZOFFSETFROM:+0200
TZOFFSETTO:+0100
TZNAME:CET
DTSTART:20231029T010000
END:STANDARD
BEGIN:DAYLIGHT
TZOFFSETFROM:+0100
TZOFFSETTO:+0200
TZNAME:CEST
DTSTART:20240331T010000
END:DAYLIGHT
BEGIN:STANDARD
TZOFFSETFROM:+0200
TZOFFSETTO:+0100
TZNAME:CET
DTSTART:20241027T010000
END:STANDARD
BEGIN:DAYLIGHT
TZOFFSETFROM:+0100
TZOFFSETTO:+0200
TZNAME:CEST
DTSTART:20250330T010000
END:DAYLIGHT
BEGIN:STANDARD
TZOFFSETFROM:+0200
TZOFFSETTO:+0100
TZNAME:CET
DTSTART:20251026T010000
END:STANDARD
END:VTIMEZONE
BEGIN:VEVENT
DTSTART;TZID=Europe/Berlin:20241217T160000
DTEND;TZID=Europe/Berlin:20241217T173000
DTSTAMP:20260421T034825
CREATED:20241104T162529Z
LAST-MODIFIED:20250826T081055Z
UID:66992-1734451200-1734456600@www.wikimedia.de
SUMMARY:Meet-Up – Forum Offene KI in der Bildung
DESCRIPTION:Viel hat sich rundum das Thema KI in der Bildung getan und wurde weiter diskutiert seit der Abschlussveranstaltung im Mai. Wir möchten die Gelegenheit zum Ende des Jahres nutzen\, um uns miteinander auf den neuesten Stand zu aktuellen Entwicklungen zu bringen. Daher möchten wir euch zu einem informellen Meet-Up am 17. Dezember (16:00 bis ca. 17:30) einladen\, welches online stattfindet.     \nDas Meet-Up soll zum offenen Austausch dienen: Was ist bisher mit den Handlungsempfehlungen passiert? Gibt es Ideen\, Anknüpfungspunkte\, Hinweise\, Bedarfe aus der Community\, was als nächstes mit den Handlungsempfehlungen passieren könnte – auch mit Blick auf die Bundestagswahl 2025? \n\n\n\n\n\n\n	\n\n\n\n\n\n\n\n\n\n    \n        \n        \n            Ein Rückblick auf das Forum Offene KI in der Bildung        \n    \n    \n\n\n\n\n\n	\n\n\n\n\n\n\n\n    Das „Forum Offene KI in der Bildung“ hat einen Raum geschaffen\, um den Einsatz von KI in der Bildung frühzeitig mitzugestalten\, statt den rasanten\, häufig intransparenten Entwicklungen zuzuschauen. In verschiedenen Formaten haben wir offene Fragen diskutiert\, bestehende Expertisen und Engagement gebündelt und vernetzt. Dabei haben wir möglichst vielfältige Perspektiven integriert – von Menschen aus der Bildungspraxis\, -wissenschaft oder -politik. Ziel des Forums war die Entwicklung gemeinsamer Handlungsempfehlungen an die Bundesregierung. Dieses Ziel haben wir nun erreicht. \n\n\n\n\n\n\n\n\n\n\n    \n        \n        \n            Die Handlungsempfehlungen “Offene KI für alle!” zum Download:        \n    \n    \n\n\n\n\n\n	\n\n\n\n\n\n\n\n  \n    \n\n\n    deutschsprachige Version als PDF  \n\n\n\n\n\n\n	\n\n\n\n\n\n\n\n  \n    \n\n\n    deutschsprachige Version als Wiki  \n\n\n\n\n\n\n	\n\n\n\n\n\n\n\n  \n    \n\n\n    englischsprachige Version als PDF  \n\n\n\n\n\n\n\n\n    Auftakt war die Ideenwerkstatt am 29. November 2023. Im Januar\, Februar und März 2024 folgten drei synchrone Online-Sessions mit offenen Arbeitsgruppen und die Abschlussveranstaltung im Mai. Dabei wurde ein ko-kreativer Ansatz unter Beteiligung möglichst vielfältiger Perspektiven verfolgt. Aus den Ergebnissen wurden bildungspolitische Handlungsempfehlungen zu offenen und gemeinwohlorientierten KI-Technologien in der Bildung ausgearbeitet.  \n\n\n\n\n\n\n	\n\n\n\n\n\n\n\n\n\n    \n        \n        \n            Ansprechpersonen        \n    \n    \n\n\n\n\n\n	\n\n\n\n\n\n\n\n  \n    \n    \n        \n    \n            \n          Sarah-Isabella Behrens\n              Projektmanagerin \n                  E-Mail \n        \n  \n    \n    \n        \n    \n            \n          Dr. Anne-Sophie Waag\n              Referentin Bildungspolitik \n                  E-Mail
URL:https://www.wikimedia.de/veranstaltungen/meet-up-forum-offene-ki-in-der-bildung/
ATTACH;FMTTYPE=image/jpeg:https://www.wikimedia.de/wp-content/uploads/2024/11/Visual-Meet-Up.jpg
END:VEVENT
END:VCALENDAR