BEGIN:VCALENDAR
VERSION:2.0
PRODID:-//Wikimedia - ECPv6.15.17.1//NONSGML v1.0//EN
CALSCALE:GREGORIAN
METHOD:PUBLISH
X-WR-CALNAME:Wikimedia
X-ORIGINAL-URL:https://www.wikimedia.de
X-WR-CALDESC:Veranstaltungen für Wikimedia
REFRESH-INTERVAL;VALUE=DURATION:PT1H
X-Robots-Tag:noindex
X-PUBLISHED-TTL:PT1H
BEGIN:VTIMEZONE
TZID:Europe/Berlin
BEGIN:DAYLIGHT
TZOFFSETFROM:+0100
TZOFFSETTO:+0200
TZNAME:CEST
DTSTART:20230326T010000
END:DAYLIGHT
BEGIN:STANDARD
TZOFFSETFROM:+0200
TZOFFSETTO:+0100
TZNAME:CET
DTSTART:20231029T010000
END:STANDARD
BEGIN:DAYLIGHT
TZOFFSETFROM:+0100
TZOFFSETTO:+0200
TZNAME:CEST
DTSTART:20240331T010000
END:DAYLIGHT
BEGIN:STANDARD
TZOFFSETFROM:+0200
TZOFFSETTO:+0100
TZNAME:CET
DTSTART:20241027T010000
END:STANDARD
BEGIN:DAYLIGHT
TZOFFSETFROM:+0100
TZOFFSETTO:+0200
TZNAME:CEST
DTSTART:20250330T010000
END:DAYLIGHT
BEGIN:STANDARD
TZOFFSETFROM:+0200
TZOFFSETTO:+0100
TZNAME:CET
DTSTART:20251026T010000
END:STANDARD
END:VTIMEZONE
BEGIN:VEVENT
DTSTART;TZID=Europe/Berlin:20241113T140000
DTEND;TZID=Europe/Berlin:20241113T153000
DTSTAMP:20260420T200050
CREATED:20241009T092538Z
LAST-MODIFIED:20250827T140839Z
UID:66751-1731506400-1731511800@www.wikimedia.de
SUMMARY:Beteiligung als Schlüssel für gelungene digitale Bildungsvorhaben
DESCRIPTION:Ergänzung! Die Info-Website “Gemeinwohl im Bildungsraum” ist ab sofort online. \n\n\n\n\n\n\n  \n    \n\n  \n    zur Info-Website: Gemeinwohl im Bildungsraum  \n\n\n\n\n\n\n	\n\n\n\n\n\n\n\n    Die Beteiligung verschiedener Stakeholder ist bei digitalen Bildungsprojekten nicht nur wünschenswert\, sondern auch sinnvoll. Über die Art der Beteiligung möchten wir anhand von “Mein Bildungsraum” als Beispielprojekt mit zwei Expert*innen diskutieren. Konkret soll es darum gehen\, wie die Beteiligung verschiedener betroffener Gruppen – wie Schüler*innen\, Lehrkräften\, Menschen mit Behinderungen oder Schulverwaltung – in digitalen Bildungsprojekten aussehen sollte und warum diese für das Gelingen solcher Vorhaben von zentraler Bedeutung sind.  \nAnlass für die Diskussion ist die Veröffentlichung unserer Info-Website „Gemeinwohl im Bildungsraum”. „Mein Bildungsraum” ist eines der großen Projekte der Bundesregierung im Bereich der digitalen Bildung. Das Ziel des Vorhabens ist es\, „individuelle Bildungswege zu fördern und eine nahtlose digitale Lernreise von der Grundschule bis ins hohe Alter zu ermöglichen”. (1) \nWir finden\, dass sich Projekte wie dieses an ihrer Gemeinwohlorientierung messen lassen müssen und haben uns daher gefragt: Wie viel Gemeinwohl steckt eigentlich in „Mein Bildungsraum”? Gemeinsam mit acht Expert*innen aus Wissenschaft\, Bildungspraxis und Zivilgesellschaft haben wir das Projekt daher anhand von acht Gemeinwohl-Anforderungen wie beispielsweise Beteiligung\, Transparenz und Nachhaltigkeit analysiert und kommentiert. \nNach einer kurzen Vorstellung der Website steigen wir in die Diskussion mit Dr. Charlotte Echterhoff (Team-Lead Unternehmenskooperationen\, Hacker School) und Dustin Matzel (Referent für Innovation und Entwicklung barrierefreier Technologien in Forschung und Lehre und Teamleitung Softwareentwicklung\, Universität Bielefeld) ein. Es soll dabei z. B. um folgende Fragen gehen: Wie hat die Beteiligung von verschiedenen Nutzer*innengruppen bei “Mein Bildungsraum” funktioniert? Was lässt sich daraus für ähnliche Vorhaben lernen? Welche Vorteile bietet eine frühe Einbindung von Nutzenden und wie kann man sie praktisch umsetzen? \nDie Veranstaltung ist offen für alle Interessierten. Grundlegende Kenntnisse zur Thematik erleichtern das Verständnis in der Veranstaltung.  \nQuellenangaben:\n(1) VDI/VDE Innovation + Technik GmbH. Unsere Mission. https://www.meinbildungsraum.de/. Abgerufen am 10.10.20204 \n\n\n\n\n\n\n	\n\n\n\n\n\n\n\n\n\n    \n        \n        \n            Diskutant*innen        \n    \n    \n\n\n\n\n\n	\n\n\n\n\n\n\n\n\n\n\n\n\n            \n                        \n            \n\n  \n  \n  \n  \n Charlotte Echterhoff | © Marie Matern\, Hacker School\n        \n            \n        \n\n\n\n\n\n	\n\n\n\n\n\n\n\n    Charlotte Echterhoff \n\n\n\n\n\n\n\n\n\n\n\n            \n                        \n            \n\n  \n  \n  \n  \n Dustin Matzel | © ZAB – Universität Bielefeld\n        \n            \n        \n\n\n\n\n\n	\n\n\n\n\n\n\n\n    Dustin Matzel
URL:https://www.wikimedia.de/veranstaltungen/wie-viel-gemeinwohl-steckt-in-mein-bildungsraum/
LOCATION:Online-Veranstaltung
ATTACH;FMTTYPE=image/png:https://www.wikimedia.de/wp-content/uploads/2024/10/Logo_Beteiligung.png
END:VEVENT
END:VCALENDAR