BEGIN:VCALENDAR
VERSION:2.0
PRODID:-//Wikimedia - ECPv6.15.17.1//NONSGML v1.0//EN
CALSCALE:GREGORIAN
METHOD:PUBLISH
X-WR-CALNAME:Wikimedia
X-ORIGINAL-URL:https://www.wikimedia.de
X-WR-CALDESC:Veranstaltungen für Wikimedia
REFRESH-INTERVAL;VALUE=DURATION:PT1H
X-Robots-Tag:noindex
X-PUBLISHED-TTL:PT1H
BEGIN:VTIMEZONE
TZID:Europe/Berlin
BEGIN:DAYLIGHT
TZOFFSETFROM:+0100
TZOFFSETTO:+0200
TZNAME:CEST
DTSTART:20230326T010000
END:DAYLIGHT
BEGIN:STANDARD
TZOFFSETFROM:+0200
TZOFFSETTO:+0100
TZNAME:CET
DTSTART:20231029T010000
END:STANDARD
BEGIN:DAYLIGHT
TZOFFSETFROM:+0100
TZOFFSETTO:+0200
TZNAME:CEST
DTSTART:20240331T010000
END:DAYLIGHT
BEGIN:STANDARD
TZOFFSETFROM:+0200
TZOFFSETTO:+0100
TZNAME:CET
DTSTART:20241027T010000
END:STANDARD
BEGIN:DAYLIGHT
TZOFFSETFROM:+0100
TZOFFSETTO:+0200
TZNAME:CEST
DTSTART:20250330T010000
END:DAYLIGHT
BEGIN:STANDARD
TZOFFSETFROM:+0200
TZOFFSETTO:+0100
TZNAME:CET
DTSTART:20251026T010000
END:STANDARD
END:VTIMEZONE
BEGIN:VEVENT
DTSTART;TZID=Europe/Berlin:20240526T120000
DTEND;TZID=Europe/Berlin:20240526T173000
DTSTAMP:20260420T195203
CREATED:20240510T095809Z
LAST-MODIFIED:20240523T073334Z
UID:64552-1716724800-1716744600@www.wikimedia.de
SUMMARY:Workshops im Rahmen des Queer History Month
DESCRIPTION:12:00 – 14:30 Uhr        \n    \n    \n\n\n\n\n\n\n\n    \n        \n        \n            Writing the Archive #2 – BIPoC und jüdische Koalitionen in den 1990er Jahren        \n    \n    \n\n\n\n\n\n	\n\n\n\n\n\n\n\n    Im Rahmen des Queer History Months möchten wir uns in Kooperation mit dem Lesbenarchiv und Bibliothek Spinnboden in zwei Lese- und Schreibwerkstätten queeren diasporischen und (post)migrantischen Erinnerungen und Perspektiven widmen. Zusammen mit Wassan Ali werden wir uns anhand von Archivmaterialien mit BIPoC und jüdischen Koalitionen der 1990er und queerer Liebe und Menschenrechte in Zeiten des Krieges auseinandersetzen und Gedanken\, Gefühle und Erfahrungen in Schriftform erkunden und reflektieren. Darüber hinaus fragen wir uns auch: Auf welche Weisen kann intergenerationale Wissensvermittlung stattfinden? Welche Notwendigkeit bilden alternative Formen der Wissens(re)produktion wie beispielsweise Zines\, aber eben auch die Wikipedia in unserer Gesellschaft? \nMit dem zweiteiligen Workshop “Writing the Archive #2“ knüpfen wir an den Workshop “Writing and Sounding the Archive” an\, der im September 2023 im Spinnboden Lesbenarchiv & Bibliothek im Rahmen des Projektes “Lesbisch-queere Geschichte goes Mitte – Erinnerung aus intersektionaler Perspektive” stattgefunden hat. \nFür die Teilnahme an Writing the Archive #2 wird kein Vorwissen oder eine Teilnahme an “Writing and Sounding the Archive” in 2023 vorausgesetzt. Interesse und Neugier reicht völlig aus! \n\n\n\n\n\n\n	\n\n\n\n\n\n\n\n\n\n    \n        \n        \n            BIPoC und jüdische Koalitionen in den 1990er Jahren        \n    \n    \n\n\n\n\n\n	\n\n\n\n\n\n\n\n    Gemeinsam lesen wir über lesbisch-feministische Koalitionen zwischen “Immigrantinnen\, Schwarzen deutschen\, jüdischen und im Exil lebende Frauen”\, die in den 1990er Jahren in Deutschland stattgefunden haben. Ausgangspunkt sind zwei Kongresse in Bremen und Köln\, die als Reaktion auf die Zunahme rassistisch motivierter Gewalt\, aber auch vor dem Hintergrund gemeinsamer Ausgrenzungserfahrungen in der weißen Frauenbewegung organisiert wurden. Was sind die Herausforderungen bei der Bildung von Koalitionen? Wie sinnvoll sind sie? Abschließend reflektieren wir in schriftlicher Form über das Material. \nDer Workshop ist offen für queere BIPoC und jüdische Menschen\, ausdrücklich auch für die\, die sich nicht als lesbisch identifizieren. Im Rahmen des Workshops wird es Getränke und eine kleine Verpflegung geben.  \n\n\n\n\n\n\n	\n\n\n\n\n\n\n\n\n\n    \n        \n        \n            Organisatorische Hinweise        \n    \n    \n\n\n\n\n\n	\n\n\n\n\n\n\n\n    Referentinnen: Wassan Ali & Farzada Farkhooi \nSprache: Deutsch \nAnmeldung: Du kannst dich per E-Mail an qhm@spinnboden.de zum Workshop anmelden. Bitte schreibe ein paar Zeilen darüber\, warum du an der Teilnahme interessiert bist und informiere uns gerne über vorhandene Lebensmittelallergien. \nGruppengröße: max. 20 Teilnehmende \nHinweis: Am selben Tag findet ein 2. Workshop ab 15.15 statt\, der gerne mit diesem Workshop kombiniert werden kann. \nBarriereinfos: Der Veranstaltungsort ist gut mit ÖPNV erreichbar. Von der U-Bahn-Haltestelle “Möckernbrücke“ sind es nur 90 Meter zum Veranstaltungsort. Die nächstgelegene barrierefreie U-Bahn-Haltestelle “Hallesches Tor“ ist ca. 750 Meter entfernt. Der Veranstaltungsort befindet sich im 1. Stock und verfügt über einen Fahrstuhl (Maße des Aufzugs: Aufzugtür 100cm breit\, Kabinenmaße 78\,5cm x 134cm). Die Toiletten am Veranstaltungsort sind leider nicht barrierefrei.  \n\n\n\n\n\n\n	\n\n\n\n\n\n\n\n\n\n    \n        \n        \n            15:15 – 17:30 Uhr / 3.15 – 5.30 pm        \n    \n    \n\n\n\n\n\n\n\n    \n        \n        \n            Writing the Archive #2: Collective Reading of „Some notes on love and struggle in times of war.“ A queer/trans POC anti-war zine        \n    \n    \n\n\n\n\n\n	\n\n\n\n\n\n\n\n    Culture jamming against the war\, traumatic amnesia and notes on despair: attendees read passages from the Anti-War Zine by Bianca Ortiz and others on the U.S. invasion on Iraq in 2003. We end the session by reflecting in writing on queer love and human rights in times of warfare. Due to the source material\, the workshop will be held mainly in English.  \nThe workshop is open to all queer people\, explicitly including those who do not identify as lesbian. During the workshop food and drinks will be available. \n\n\n\n\n\n\n	\n\n\n\n\n\n\n\n\n\n    \n        \n        \n            Organizational notes        \n    \n    \n\n\n\n\n\n	\n\n\n\n\n\n\n\n    Facilitators: Wassan Ali & Farzada Farkhooi \nLanguage: Due to the source material\, the workshop will mainly be held in English. \nRegistration: You can register for the workshop by sending an email to qhm@spinnboden.de. Please write a few lines about why you are interested in taking part and let us know if you have any food allergies. \nGroup size: max. 20 participants \nBarrier information: The venue is easily accessible by public transport. From the subway station “Möckernbrücke” it is only 90 meters to the venue. The nearest barrier-free subway station “Hallesches Tor” is approx. 750 meters away. The venue is located on the 1st floor and has an elevator (dimensions of the elevator: elevator door 100cm wide\, cabin dimensions 78.5cm x 134cm). Unfortunately\, the toilets at the venue are not barrier-free.
URL:https://www.wikimedia.de/veranstaltungen/workshops-im-rahmen-des-queer-history-month/
LOCATION:Wikimedia Deutschland e. V.\, Tempelhofer Ufer 23-24\, Berlin\, 10963
ATTACH;FMTTYPE=image/png:https://www.wikimedia.de/wp-content/uploads/2024/05/Design-ohne-Titel-5.png
END:VEVENT
END:VCALENDAR